BEGIN:VCALENDAR
VERSION:2.0
PRODID:-//Squarespace Inc/Squarespace 6//v6//EN
BEGIN:VEVENT
UID:5b2b1862758d46759e9c2f7a@squarespace.com
DTSTAMP:20180717T204822Z
DTSTART:20180810T223000Z
DTEND:20180811T020000Z
SUMMARY:SOURDOUGH\, JAM DOUGHNUTS\, AND BREAD ROLLS WITH Kearin Armstrong - 
 sorry sold out!
END:VEVENT
END:VCALENDAR
