BEGIN:VCALENDAR
VERSION:2.0
PRODID:-//Squarespace Inc/Squarespace 6//v6//EN
BEGIN:VEVENT
UID:5aebe2e18a922d1fe65098bc@squarespace.com
DTSTAMP:20180704T211851Z
DTSTART:20180713T223000Z
DTEND:20180714T020000Z
SUMMARY:SOURDOUGH\, JAM DOUGHNUTS\, AND BREAD ROLLS WITH Kearin Armstrong - 
 one place left!
END:VEVENT
END:VCALENDAR
