BEGIN:VCALENDAR
VERSION:2.0
PRODID:-//Squarespace Inc/Squarespace 6//v6//EN
BEGIN:VEVENT
UID:5aebe20d88251b1f839f05be@squarespace.com
DTSTAMP:20180614T045247Z
DTSTART:20180727T223000Z
DTEND:20180728T020000Z
SUMMARY:SOURDOUGH\, JAM DOUGHNUTS\, AND BREAD ROLLS WITH Kearin Armstrong - 
 sorry sold out!
END:VEVENT
END:VCALENDAR
