BEGIN:VCALENDAR
VERSION:2.0
PRODID:-//Squarespace Inc/Squarespace 6//v6//EN
BEGIN:VEVENT
UID:5ab8258e88251b7aae6b7c88@squarespace.com
DTSTAMP:20180502T213400Z
DTSTART:20180629T223000Z
DTEND:20180630T020000Z
SUMMARY:SOURDOUGH\, JAM DOUGHNUTS\, AND BREAD ROLLS WITH Kearin Armstrong a
 nd Lucy Mutch - sorry sold out!
END:VEVENT
END:VCALENDAR
