BEGIN:VCALENDAR
VERSION:2.0
PRODID:-//Squarespace Inc/Squarespace 6//v6//EN
BEGIN:VEVENT
UID:5ab82568758d46cbe63b2b73@squarespace.com
DTSTAMP:20180424T071050Z
DTSTART:20180615T223000Z
DTEND:20180616T020000Z
SUMMARY:SOURDOUGH\, JAM DOUGHNUTS\, AND BREAD ROLLS WITH Kearin Armstrong a
 nd Lucy Mutch - sorry sold out!
END:VEVENT
END:VCALENDAR
