BEGIN:VCALENDAR
VERSION:2.0
PRODID:-//Squarespace Inc/Squarespace 6//v6//EN
BEGIN:VEVENT
UID:5a72971ec8302573ec2a0882@squarespace.com
DTSTAMP:20180325T023830Z
DTSTART:20180406T223000Z
DTEND:20180407T020000Z
SUMMARY:SOURDOUGH\, JAM DOUGHNUTS\, AND BREAD ROLLS WITH Kearin Armstrong a
 nd Lucy Mutch - sorry sold out!
END:VEVENT
END:VCALENDAR
