BEGIN:VCALENDAR
VERSION:2.0
PRODID:-//Squarespace Inc/Squarespace 6//v6//EN
BEGIN:VEVENT
UID:5a263a8ce2c483ba7829d16e@squarespace.com
DTSTAMP:20180316T182104Z
DTSTART:20180317T030000Z
DTEND:20180317T063000Z
SUMMARY:SOURDOUGH\, JAM DOUGHNUTS\, AND BREAD ROLLS WITH Kearin Armstrong a
 nd Lucy Mutch - three places left!
END:VEVENT
END:VCALENDAR
