BEGIN:VCALENDAR
VERSION:2.0
PRODID:-//Squarespace Inc/Squarespace 6//v6//EN
BEGIN:VEVENT
UID:5a263a6471c10b1e7a3396cd@squarespace.com
DTSTAMP:20180206T144430Z
DTSTART:20180309T213000Z
DTEND:20180310T010000Z
SUMMARY:SOURDOUGH\, JAM DOUGHNUTS\, AND BREAD ROLLS WITH Kearin Armstrong a
 nd Lucy Mutch - Sorry Sold out!
END:VEVENT
END:VCALENDAR
