BEGIN:VCALENDAR
VERSION:2.0
PRODID:-//Squarespace Inc/Squarespace 6//v6//EN
BEGIN:VEVENT
UID:5a2639a024a694db5ad95e2b@squarespace.com
DTSTAMP:20180129T083412Z
DTSTART:20180209T213000Z
DTEND:20180210T010000Z
SUMMARY:SOURDOUGH\, JAM DOUGHNUTS\, AND BREAD ROLLS WITH Kearin Armstrong a
 nd Lucy Mutch - Sorry sold out!
END:VEVENT
END:VCALENDAR
