BEGIN:VCALENDAR
VERSION:2.0
PRODID:-//Squarespace Inc/Squarespace 6//v6//EN
BEGIN:VEVENT
UID:59ff8bd271c10b5cf334a3a5@squarespace.com
DTSTAMP:20171126T051534Z
DTSTART:20171208T213000Z
DTEND:20171209T010000Z
SUMMARY:SOURDOUGH\, JAM DOUGHNUTS\, AND BREAD ROLLS WITH Kearin Armstrong a
 nd Lucy Mutch - Sorry Sold out!
END:VEVENT
END:VCALENDAR
