BEGIN:VCALENDAR
VERSION:2.0
PRODID:-//Squarespace Inc/Squarespace 6//v6//EN
BEGIN:VEVENT
UID:59ac8ba749fc2b19c92e6771@squarespace.com
DTSTAMP:20170905T072816Z
DTSTART:20171110T213000Z
DTEND:20171111T010000Z
SUMMARY:SOURDOUGH\, JAM DOUGHNUTS\, AND BREAD ROLLS WITH Kearin Armstrong a
 nd Lucy Mutch
END:VEVENT
END:VCALENDAR
