BEGIN:VCALENDAR
VERSION:2.0
PRODID:-//Squarespace Inc/Squarespace 6//v6//EN
BEGIN:VEVENT
UID:59ac8c79197aea4ad6936186@squarespace.com
DTSTAMP:20171213T060445Z
DTSTART:20180126T213000Z
DTEND:20180127T010000Z
SUMMARY:SOURDOUGH\, JAM DOUGHNUTS\, AND BREAD ROLLS WITH Kearin Armstrong a
 nd Lucy Mutch - Sorry Sold out!
END:VEVENT
END:VCALENDAR
