BEGIN:VCALENDAR
VERSION:2.0
PRODID:-//Squarespace Inc/Squarespace 6//v6//EN
BEGIN:VEVENT
UID:59ac8c1ecd0f687db8ec90fc@squarespace.com
DTSTAMP:20171130T051142Z
DTSTART:20171201T213000Z
DTEND:20171202T010000Z
SUMMARY:SOURDOUGH\, JAM DOUGHNUTS\, AND BREAD ROLLS WITH Kearin Armstrong a
 nd Lucy Mutch - only three places left!
END:VEVENT
END:VCALENDAR
