BEGIN:VCALENDAR
VERSION:2.0
PRODID:-//Squarespace Inc/Squarespace 6//v6//EN
BEGIN:VEVENT
UID:59ac8a6546c3c4554f467652@squarespace.com
DTSTAMP:20180729T041702Z
DTSTART:20171006T213000Z
DTEND:20171007T010000Z
SUMMARY:SOURDOUGH\, JAM DOUGHNUTS\, AND BREAD ROLLS WITH Kearin Armstrong a
 nd Lucy Mutch - Sorry Sold out!
END:VEVENT
END:VCALENDAR
