BEGIN:VCALENDAR
VERSION:2.0
PRODID:-//Squarespace Inc/Squarespace 6//v6//EN
BEGIN:VEVENT
UID:598ad66aa803bb87a904ef61@squarespace.com
DTSTAMP:20170903T230405Z
DTSTART:20170908T223000Z
DTEND:20170909T020000Z
SUMMARY:SOURDOUGH\, JAM DOUGHNUTS\, AND BREAD ROLLS WITH CHEF MARIJA VIDOVI
 CH - Sorry Sold out!
END:VEVENT
END:VCALENDAR
