BEGIN:VCALENDAR
VERSION:2.0
PRODID:-//Squarespace Inc/Squarespace 6//v6//EN
BEGIN:VEVENT
UID:596fae82440243079669c67a@squarespace.com
DTSTAMP:20170815T231524Z
DTSTART:20170901T223000Z
DTEND:20170902T020000Z
SUMMARY:SOURDOUGH\, JAM DOUGHNUTS\, AND BREAD ROLLS WITH CHEF MARIJA VIDOVI
 CH - Sorry Sold Out!
END:VEVENT
END:VCALENDAR
