BEGIN:VCALENDAR
VERSION:2.0
PRODID:-//Squarespace Inc/Squarespace 6//v6//EN
BEGIN:VEVENT
UID:5b88affa758d46a24023d19f@squarespace.com
DTSTAMP:20181024T050842Z
DTSTART:20181024T053000Z
DTEND:20181024T073000Z
SUMMARY:Nose to Tail: Offal Masterclass with Executive Chef MacLean Fraser-
 CANCELLED!
GEO:-41.325755;174.795595
LOCATION:Crave Cooking School\, 147 Onepu Road\, Wellington\, Wellington\, 
 6022\, New Zealand
END:VEVENT
END:VCALENDAR
