BEGIN:VCALENDAR
VERSION:2.0
PRODID:-//Squarespace Inc/Squarespace 6//v6//EN
BEGIN:VEVENT
UID:5b68fb456d2a73cbec30df31@squarespace.com
DTSTAMP:20181118T055129Z
DTSTART:20180915T020000Z
DTEND:20180915T043000Z
SUMMARY:Chocolate Masterclass with International chocolate expert Elle Coco
 -SOLD OUT!
GEO:-41.326947;174.795344
LOCATION:Crave Cooking School\, Lyall Bay\, Wellington\, New Zealand
END:VEVENT
END:VCALENDAR
