BEGIN:VCALENDAR
VERSION:2.0
PRODID:-//Squarespace Inc/Squarespace 6//v6//EN
BEGIN:VEVENT
UID:5bda4faf0ebbe8a5aa1cb1fe@squarespace.com
DTSTAMP:20190902T054812Z
DTSTART:20181212T050000Z
DTEND:20181212T070000Z
SUMMARY:French Champagne tasting and canapés: bubbles and amuses-bouche-SOL
 D OUT
END:VEVENT
END:VCALENDAR
