BEGIN:VCALENDAR
VERSION:2.0
PRODID:-//Squarespace Inc/Squarespace 6//v6//EN
BEGIN:VEVENT
UID:5c52a81e4d7a9c391e46c80d@squarespace.com
DTSTAMP:20190719T163545Z
DTSTART:20190327T053000Z
DTEND:20190327T073000Z
SUMMARY:Ottolenghi Simple &amp\; Sweet - Middle Eastern Vegetarian Feast-SO
 LD OUT
END:VEVENT
END:VCALENDAR
