BEGIN:VCALENDAR
VERSION:2.0
PRODID:-//Squarespace Inc/Squarespace 6//v6//EN
BEGIN:VEVENT
UID:5bce3c3e1905f44d8efa630a@squarespace.com
DTSTAMP:20190719T163709Z
DTSTART:20181208T230000Z
DTEND:20181209T013000Z
SUMMARY:Ottolenghi Simple &amp\; Sweet - Middle Eastern Feast - SOLD OUT
END:VEVENT
END:VCALENDAR
