BEGIN:VCALENDAR
VERSION:2.0
PRODID:-//Squarespace Inc/Squarespace 6//v6//EN
BEGIN:VEVENT
UID:5bf0fde10ebbe8ffeab8d679@squarespace.com
DTSTAMP:20190719T163648Z
DTSTART:20190214T053000Z
DTEND:20190214T070000Z
SUMMARY:Artisan Chocolate Tasting with Luke from the Chocolate Bar-SOLD OUT
GEO:-41.326947;174.795344
LOCATION:Crave Cooking School\, Lyall Bay\, Wellington\, New Zealand
END:VEVENT
END:VCALENDAR
