BEGIN:VCALENDAR
VERSION:2.0
PRODID:-//Squarespace Inc/Squarespace 6//v6//EN
BEGIN:VEVENT
UID:5c5cfd278165f59b3f39225e@squarespace.com
DTSTAMP:20190429T205929Z
DTSTART:20190512T040000Z
DTEND:20190512T060000Z
SUMMARY:Mother's Day French Champagne tasting and petits fours-SOLD OUT
GEO:-41.325755;174.795595
LOCATION:Crave Cooking School\, 147 Onepu Road\, Wellington\, Wellington\, 
 6022\, New Zealand
END:VEVENT
END:VCALENDAR
