BEGIN:VCALENDAR
VERSION:2.0
PRODID:-//Squarespace Inc/Squarespace 6//v6//EN
BEGIN:VEVENT
UID:5cb2f005971a185dbacf3f8a@squarespace.com
DTSTAMP:20190519T031938Z
DTSTART:20190620T063000Z
DTEND:20190620T083000Z
SUMMARY:MASTER THE BASICS: Cooking fundamentals SERIES with Chef Frank Scha
 tz of the Culinary Cartel: WEEK TWO
END:VEVENT
END:VCALENDAR
