BEGIN:VCALENDAR
VERSION:2.0
PRODID:-//Squarespace Inc/Squarespace 6//v6//EN
BEGIN:VEVENT
UID:5cb2f18ae2c483d2509d78af@squarespace.com
DTSTAMP:20190519T032139Z
DTSTART:20190718T063000Z
DTEND:20190718T083000Z
SUMMARY:MASTER THE BASICS: Cooking fundamentals SERIES with Chef Frank Scha
 tz of the Culinary Cartel: WEEK SIX
END:VEVENT
END:VCALENDAR
