BEGIN:VCALENDAR
VERSION:2.0
PRODID:-//Squarespace Inc/Squarespace 6//v6//EN
BEGIN:VEVENT
UID:5cb2f135b208fc58ff6738b1@squarespace.com
DTSTAMP:20190519T032106Z
DTSTART:20190711T063000Z
DTEND:20190711T083000Z
SUMMARY:MASTER THE BASICS: Cooking fundamentals SERIES with Chef Frank Scha
 tz of the Culinary Cartel: WEEK FIVE
END:VEVENT
END:VCALENDAR
