BEGIN:VCALENDAR
VERSION:2.0
PRODID:-//Squarespace Inc/Squarespace 6//v6//EN
BEGIN:VEVENT
UID:5cb2f0ea24a69448722091a4@squarespace.com
DTSTAMP:20190519T032040Z
DTSTART:20190704T063000Z
DTEND:20190704T083000Z
SUMMARY:MASTER THE BASICS: Cooking fundamentals SERIES with Chef Frank Scha
 tz of the Culinary Cartel: WEEK FOUR
END:VEVENT
END:VCALENDAR
