BEGIN:VCALENDAR
VERSION:2.0
PRODID:-//Squarespace Inc/Squarespace 6//v6//EN
BEGIN:VEVENT
UID:5cb2f06d4e17b62f29d0845c@squarespace.com
DTSTAMP:20190519T032000Z
DTSTART:20190627T063000Z
DTEND:20190627T083000Z
SUMMARY:MASTER THE BASICS: Cooking fundamentals SERIES with Chef Frank Scha
 tz of the Culinary Cartel: WEEK THREE
END:VEVENT
END:VCALENDAR
