BEGIN:VCALENDAR
VERSION:2.0
PRODID:-//Squarespace Inc/Squarespace 6//v6//EN
BEGIN:VEVENT
UID:5cb2e86ee79c70e52f2399b3@squarespace.com
DTSTAMP:20190519T031510Z
DTSTART:20190613T063000Z
DTEND:20190613T083000Z
SUMMARY:MASTER THE BASICS: Cooking fundamentals SERIES with Chef Frank Scha
 tz of the Culinary Cartel: WEEK ONE
END:VEVENT
END:VCALENDAR
