BEGIN:VCALENDAR
VERSION:2.0
PRODID:-//Squarespace Inc/Squarespace 6//v6//EN
BEGIN:VEVENT
UID:5c85eb86e79c70c14965b31f@squarespace.com
DTSTAMP:20190609T001447Z
DTSTART:20190608T040000Z
DTEND:20190609T070000Z
SUMMARY:Charcuterie and butchery weekend with Chef Frank Schatz of the Culi
 nary Cartel
END:VEVENT
END:VCALENDAR
