BEGIN:VCALENDAR
VERSION:2.0
PRODID:-//Squarespace Inc/Squarespace 6//v6//EN
BEGIN:VEVENT
UID:5c833d6215fcc08f42a4f074@squarespace.com
DTSTAMP:20190719T163423Z
DTSTART:20190611T063000Z
DTEND:20190611T083000Z
SUMMARY:Fish Filleting with Chef Frank Schatz of the Culinary Cartel-SOLD O
 UT
END:VEVENT
END:VCALENDAR
