BEGIN:VCALENDAR
VERSION:2.0
PRODID:-//Squarespace Inc/Squarespace 6//v6//EN
BEGIN:VEVENT
UID:5c97f11c5bfa3f0001867b40@squarespace.com
DTSTAMP:20190701T234502Z
DTSTART:20190604T063000Z
DTEND:20190604T083000Z
SUMMARY:New Orleans with Chef Frank Schatz of the Culinary Cartel--SOLD OUT
END:VEVENT
END:VCALENDAR
