BEGIN:VCALENDAR
VERSION:2.0
PRODID:-//Squarespace Inc/Squarespace 6//v6//EN
BEGIN:VEVENT
UID:5c846b051905f45b20ec69c5@squarespace.com
DTSTAMP:20190719T163532Z
DTSTART:20190522T063000Z
DTEND:20190522T083000Z
SUMMARY:Vegan Haute Cuisine with Chef Frank Schatz- SOLD OUT
END:VEVENT
END:VCALENDAR
