BEGIN:VCALENDAR
VERSION:2.0
PRODID:-//Squarespace Inc/Squarespace 6//v6//EN
BEGIN:VEVENT
UID:5c4f9ad10ebbe897d9ee5a86@squarespace.com
DTSTAMP:20190414T080946Z
DTSTART:20190501T063000Z
DTEND:20190501T083000Z
SUMMARY:Genoise Sponge cake and buttercream 
END:VEVENT
END:VCALENDAR
