BEGIN:VCALENDAR
VERSION:2.0
PRODID:-//Squarespace Inc/Squarespace 6//v6//EN
BEGIN:VEVENT
UID:5c85e374ee6eb059ac4cfc81@squarespace.com
DTSTAMP:20190624T060645Z
DTSTART:20190504T040000Z
DTEND:20190504T070000Z
SUMMARY:Italian MasterClass with Chef Nicla Gallione - FOOD OF LIGURIA -SOL
 D OUT
END:VEVENT
END:VCALENDAR
