BEGIN:VCALENDAR
VERSION:2.0
PRODID:-//Squarespace Inc/Squarespace 6//v6//EN
BEGIN:VEVENT
UID:5c4f88090ebbe897d9ed7253@squarespace.com
DTSTAMP:20190718T220053Z
DTSTART:20190823T230000Z
DTEND:20190824T020000Z
SUMMARY:LOUIS SERGEANT - EXCLUSIVE VIP PATISSERIE MASTERCLASS - Limited spo
 ts available!
END:VEVENT
END:VCALENDAR
