BEGIN:VCALENDAR
VERSION:2.0
PRODID:-//Squarespace Inc/Squarespace 6//v6//EN
BEGIN:VEVENT
UID:5c7dde44f9619a98a559596d@squarespace.com
DTSTAMP:20200719T050436Z
DTSTART:20190515T063000Z
DTEND:20190515T083000Z
SUMMARY:Malaysian class with Chef Muthuvelu Supramaniam--SOLD OUT
GEO:-41.325755;174.795595
LOCATION:Crave Cooking School\, 147 Onepu Road\, Wellington\, Wellington\, 
 6022\, New Zealand
END:VEVENT
END:VCALENDAR
