BEGIN:VCALENDAR
VERSION:2.0
PRODID:-//Squarespace Inc/Squarespace 6//v6//EN
BEGIN:VEVENT
UID:5cc8cbcdf4e1fcb1e71c97c0@squarespace.com
DTSTAMP:20190701T233653Z
DTSTART:20190705T223000Z
DTEND:20190706T020000Z
SUMMARY:SOURDOUGH\, JAM DOUGHNUTS\, AND BREAD ROLLS WITH Chef Frank Schatz-
 -SOLD OUT
END:VEVENT
END:VCALENDAR
