BEGIN:VCALENDAR
VERSION:2.0
PRODID:-//Squarespace Inc/Squarespace 6//v6//EN
BEGIN:VEVENT
UID:5cc8cbe4eef1a1e92792496d@squarespace.com
DTSTAMP:20190519T031837Z
DTSTART:20190726T223000Z
DTEND:20190727T020000Z
SUMMARY:SOURDOUGH\, JAM DOUGHNUTS\, AND BREAD ROLLS WITH Chef Frank Schatz 
END:VEVENT
END:VCALENDAR
