BEGIN:VCALENDAR
VERSION:2.0
PRODID:-//Squarespace Inc/Squarespace 6//v6//EN
BEGIN:VEVENT
UID:5ca94d8b15fcc0da6e531e28@squarespace.com
DTSTAMP:20190519T033354Z
DTSTART:20190524T223000Z
DTEND:20190525T020000Z
SUMMARY:SOURDOUGH\, JAM DOUGHNUTS\, AND BREAD ROLLS WITH Chef Frank Schatz 
END:VEVENT
END:VCALENDAR
