BEGIN:VCALENDAR
VERSION:2.0
PRODID:-//Squarespace Inc/Squarespace 6//v6//EN
BEGIN:VEVENT
UID:5ca94c810d929731634a0f9f@squarespace.com
DTSTAMP:20190429T205918Z
DTSTART:20190510T223000Z
DTEND:20190511T020000Z
SUMMARY:SOURDOUGH\, JAM DOUGHNUTS\, AND BREAD ROLLS WITH Chef Frank Schatz 
 -SOLD OUT
END:VEVENT
END:VCALENDAR
