BEGIN:VCALENDAR
VERSION:2.0
PRODID:-//Squarespace Inc/Squarespace 6//v6//EN
BEGIN:VEVENT
UID:5d12fa54545fba00012268a4@squarespace.com
DTSTAMP:20190910T070701Z
DTSTART:20190927T220000Z
DTEND:20190928T010000Z
SUMMARY:Ottolenghi and The Palestinian Table: A Middle Eastern Feast-SOLD O
 UT but another session NOVEMBER 13
END:VEVENT
END:VCALENDAR
