BEGIN:VCALENDAR
VERSION:2.0
PRODID:-//Squarespace Inc/Squarespace 6//v6//EN
BEGIN:VEVENT
UID:5cb7d095e4966b4c3c20dea3@squarespace.com
DTSTAMP:20191024T040030Z
DTSTART:20190628T220000Z
DTEND:20190629T010000Z
SUMMARY:Cooking with the Impressionists: Claude Monet's recipes from Givern
 y-TWO SPOTS NOW AVAILABLE! 
END:VEVENT
END:VCALENDAR
