BEGIN:VCALENDAR
VERSION:2.0
PRODID:-//Squarespace Inc/Squarespace 6//v6//EN
BEGIN:VEVENT
UID:5cca2c18b208fc483b41ec08@squarespace.com
DTSTAMP:20190505T041416Z
DTSTART:20190720T040000Z
DTEND:20190720T070000Z
SUMMARY:Fantastic and versatile TOFU with Chef Amber Sturtz from Taco Addic
 ts 
END:VEVENT
END:VCALENDAR
