BEGIN:VCALENDAR
VERSION:2.0
PRODID:-//Squarespace Inc/Squarespace 6//v6//EN
BEGIN:VEVENT
UID:5ce0cc6a2cb6cf000146790c@squarespace.com
DTSTAMP:20190901T050710Z
DTSTART:20190906T220000Z
DTEND:20190907T010000Z
SUMMARY:Cooking with the Impressionists: Vincent Van Gogh-SOLD OUT
END:VEVENT
END:VCALENDAR
