BEGIN:VCALENDAR
VERSION:2.0
PRODID:-//Squarespace Inc/Squarespace 6//v6//EN
BEGIN:VEVENT
UID:5c664330c830256eb24991a0@squarespace.com
DTSTAMP:20190719T163853Z
DTSTART:20190404T053000Z
DTEND:20190404T073000Z
SUMMARY:WILD FOOD with Chef MacLean Fraser of Artisan of the Bolton Hotel-S
 OLD OUT
GEO:-41.325755;174.795595
LOCATION:Crave Cooking School\, 147 Onepu Road\, Wellington\, Wellington\, 
 6022\, New Zealand
END:VEVENT
END:VCALENDAR
