BEGIN:VCALENDAR
VERSION:2.0
PRODID:-//Squarespace Inc/Squarespace 6//v6//EN
BEGIN:VEVENT
UID:550936d5e4b0f777ebd1ed84@squarespace.com
DTSTAMP:20170411T220034Z
DTSTART:20170524T060000Z
DTEND:20170524T093000Z
SUMMARY:Sourdough\, Jam Doughnuts\, and bread rolls with Chef Marija Vidovi
 ch - Sorry SOLD OUT!
END:VEVENT
END:VCALENDAR
