BEGIN:VCALENDAR
VERSION:2.0
PRODID:-//Squarespace Inc/Squarespace 6//v6//EN
BEGIN:VEVENT
UID:5c4e7e3742bfc12027971412@squarespace.com
DTSTAMP:20200106T030540Z
DTSTART:20190302T210000Z
DTEND:20190302T233000Z
SUMMARY:Fermentation workshop with Jo Kempton of Happy Belly Ferments-SOLD 
 OUT
END:VEVENT
END:VCALENDAR
