BEGIN:VCALENDAR
VERSION:2.0
PRODID:-//Squarespace Inc/Squarespace 6//v6//EN
BEGIN:VEVENT
UID:52d746e3e4b0de281e20ed9b@squarespace.com
DTSTAMP:20160307T002203Z
DTSTART:20160308T060000Z
DTEND:20160308T073000Z
SUMMARY:KNIFE SKILLS WITH CHEF LUKE CRAWFORD FROM NEO CAFE Sold out!
GEO:-41.325755;174.795595
LOCATION:Crave Cooking School\, 147 Onepu Road\, Lyall Bay\, Wellington\, N
 ew Zealand
END:VEVENT
END:VCALENDAR
