BEGIN:VCALENDAR
VERSION:2.0
PRODID:-//Squarespace Inc/Squarespace 6//v6//EN
BEGIN:VEVENT
UID:5bbbf3f29140b782d1101570@squarespace.com
DTSTAMP:20190719T163746Z
DTSTART:20181124T030000Z
DTEND:20181124T060000Z
SUMMARY:Pasta MasterClass - Ravioli and tortellini with Chef Luca Paris of 
 Hippopotamus Restaurant- SOLD OUT
END:VEVENT
END:VCALENDAR
